BEGIN:VCALENDAR
VERSION:2.0
PRODID:-//Miami - ECPv6.15.20//NONSGML v1.0//EN
CALSCALE:GREGORIAN
METHOD:PUBLISH
X-WR-CALNAME:Miami
X-ORIGINAL-URL:https://miamifl.cisvusa.org
X-WR-CALDESC:Events for Miami
REFRESH-INTERVAL;VALUE=DURATION:PT1H
X-Robots-Tag:noindex
X-PUBLISHED-TTL:PT1H
BEGIN:VTIMEZONE
TZID:America/New_York
BEGIN:DAYLIGHT
TZOFFSETFROM:-0500
TZOFFSETTO:-0400
TZNAME:EDT
DTSTART:20180311T070000
END:DAYLIGHT
BEGIN:STANDARD
TZOFFSETFROM:-0400
TZOFFSETTO:-0500
TZNAME:EST
DTSTART:20181104T060000
END:STANDARD
BEGIN:DAYLIGHT
TZOFFSETFROM:-0500
TZOFFSETTO:-0400
TZNAME:EDT
DTSTART:20190310T070000
END:DAYLIGHT
BEGIN:STANDARD
TZOFFSETFROM:-0400
TZOFFSETTO:-0500
TZNAME:EST
DTSTART:20191103T060000
END:STANDARD
BEGIN:DAYLIGHT
TZOFFSETFROM:-0500
TZOFFSETTO:-0400
TZNAME:EDT
DTSTART:20200308T070000
END:DAYLIGHT
BEGIN:STANDARD
TZOFFSETFROM:-0400
TZOFFSETTO:-0500
TZNAME:EST
DTSTART:20201101T060000
END:STANDARD
END:VTIMEZONE
BEGIN:VEVENT
DTSTART;TZID=America/New_York:20190720T140000
DTEND;TZID=America/New_York:20190720T170000
DTSTAMP:20260423T035420
CREATED:20190510T125852Z
LAST-MODIFIED:20190709T013851Z
UID:10000016-1563631200-1563642000@miamifl.cisvusa.org
SUMMARY:OPEN DAY!
DESCRIPTION:For the first time\, CISV Miami FL will be hosting a CISV STEP UP program for international youths ages 14-15 years! \nDuring Open Day\, the camp is open to the public for one day. It is the opportunity to show to the local chapter how the camp is going\, to practice national dance and dress up in the traditional costumes. \nCome to see the Step Up delegations from nine countries around the world! Each delegation is comprised of four youth ages 14-15 years\, 2 girls and 2 boys\, who are accompanied by an adult leader. \nCISV’s Step Up program is 23 days and encourages young people to take a leading role in planning and organizing activities. The participants and their adult leaders use CISV’s peace education to guide the theme of the camp around which they plan activities\, such as identity\, democracy\, or environmental protection. \nPlease bring a snack to share! This event is open to the public\, please share the news with your families and friends! \nLocation: South Florida (Contact secretarymiami-florida@cisvusa.org for Address Details) \n 
URL:https://miamifl.cisvusa.org/event/save-the-date-open-day/
LOCATION:South Florida
ATTACH;FMTTYPE=image/jpeg:https://miamifl.cisvusa.org/wp-content/uploads/sites/10/2019/07/2019-07-08-step-up-camp-e1562636317463.jpeg
END:VEVENT
END:VCALENDAR