BEGIN:VCALENDAR
VERSION:2.0
PRODID:-//Miami - ECPv6.15.20//NONSGML v1.0//EN
CALSCALE:GREGORIAN
METHOD:PUBLISH
X-WR-CALNAME:Miami
X-ORIGINAL-URL:https://miamifl.cisvusa.org
X-WR-CALDESC:Events for Miami
REFRESH-INTERVAL;VALUE=DURATION:PT1H
X-Robots-Tag:noindex
X-PUBLISHED-TTL:PT1H
BEGIN:VTIMEZONE
TZID:America/New_York
BEGIN:DAYLIGHT
TZOFFSETFROM:-0500
TZOFFSETTO:-0400
TZNAME:EDT
DTSTART:20180311T070000
END:DAYLIGHT
BEGIN:STANDARD
TZOFFSETFROM:-0400
TZOFFSETTO:-0500
TZNAME:EST
DTSTART:20181104T060000
END:STANDARD
BEGIN:DAYLIGHT
TZOFFSETFROM:-0500
TZOFFSETTO:-0400
TZNAME:EDT
DTSTART:20190310T070000
END:DAYLIGHT
BEGIN:STANDARD
TZOFFSETFROM:-0400
TZOFFSETTO:-0500
TZNAME:EST
DTSTART:20191103T060000
END:STANDARD
BEGIN:DAYLIGHT
TZOFFSETFROM:-0500
TZOFFSETTO:-0400
TZNAME:EDT
DTSTART:20200308T070000
END:DAYLIGHT
BEGIN:STANDARD
TZOFFSETFROM:-0400
TZOFFSETTO:-0500
TZNAME:EST
DTSTART:20201101T060000
END:STANDARD
END:VTIMEZONE
BEGIN:VEVENT
DTSTART;TZID=America/New_York:20191116T110000
DTEND;TZID=America/New_York:20191117T110000
DTSTAMP:20260422T225348
CREATED:20190908T222614Z
LAST-MODIFIED:20191014T032905Z
UID:10000027-1573902000-1573988400@miamifl.cisvusa.org
SUMMARY:Parents Mini Camp
DESCRIPTION:Mark your Calendar to Attend this Adults Only MiniCamp!\n\nBoth couples and singles are welcome to this  mini camp where participants will experience firsthand the daily activities of a CISV Camp!\n\nInterested? Please register with this link by October 25.\n\n\n\n\n\nQuestions? Contact Leticia at 786-329-9384
URL:https://miamifl.cisvusa.org/event/parents-mini-camp/
LOCATION:morning star renewal center\, 7275 SW 124th St\, Pinecrest\, FL
ATTACH;FMTTYPE=image/jpeg:https://miamifl.cisvusa.org/wp-content/uploads/sites/10/2019/05/IMG_2312-scaled.jpg
GEO:25.656546;-80.312022
X-APPLE-STRUCTURED-LOCATION;VALUE=URI;X-ADDRESS=morning star renewal center 7275 SW 124th St Pinecrest FL;X-APPLE-RADIUS=500;X-TITLE=7275 SW 124th St:geo:-80.312022,25.656546
END:VEVENT
END:VCALENDAR