BEGIN:VCALENDAR
VERSION:2.0
PRODID:-//Miami - ECPv6.15.20//NONSGML v1.0//EN
CALSCALE:GREGORIAN
METHOD:PUBLISH
X-WR-CALNAME:Miami
X-ORIGINAL-URL:https://miamifl.cisvusa.org
X-WR-CALDESC:Events for Miami
REFRESH-INTERVAL;VALUE=DURATION:PT1H
X-Robots-Tag:noindex
X-PUBLISHED-TTL:PT1H
BEGIN:VTIMEZONE
TZID:America/New_York
BEGIN:DAYLIGHT
TZOFFSETFROM:-0500
TZOFFSETTO:-0400
TZNAME:EDT
DTSTART:20190310T070000
END:DAYLIGHT
BEGIN:STANDARD
TZOFFSETFROM:-0400
TZOFFSETTO:-0500
TZNAME:EST
DTSTART:20191103T060000
END:STANDARD
BEGIN:DAYLIGHT
TZOFFSETFROM:-0500
TZOFFSETTO:-0400
TZNAME:EDT
DTSTART:20200308T070000
END:DAYLIGHT
BEGIN:STANDARD
TZOFFSETFROM:-0400
TZOFFSETTO:-0500
TZNAME:EST
DTSTART:20201101T060000
END:STANDARD
BEGIN:DAYLIGHT
TZOFFSETFROM:-0500
TZOFFSETTO:-0400
TZNAME:EDT
DTSTART:20210314T070000
END:DAYLIGHT
BEGIN:STANDARD
TZOFFSETFROM:-0400
TZOFFSETTO:-0500
TZNAME:EST
DTSTART:20211107T060000
END:STANDARD
END:VTIMEZONE
BEGIN:VEVENT
DTSTART;TZID=America/New_York:20201018T143000
DTEND;TZID=America/New_York:20201018T170000
DTSTAMP:20260425T221740
CREATED:20200918T195342Z
LAST-MODIFIED:20201012T012414Z
UID:10000032-1603031400-1603040400@miamifl.cisvusa.org
SUMMARY:Road Rally Scavenger Hunt
DESCRIPTION:Let’s Go Places!! You are invited to a fun scavenger hunt around Miami \n\n1 Team per Car\, bring your family and friends!\nDecorate your car (points for best decoration)\nBring a new or gently used Halloween costume to donate to the Lotus House\nMeeting point: Miami City Hall (Roundabout entrance) 3500 Pan American Drive\, Coconut Grove 33133\nBring a water bottle\, hand sanitizer and facial coverings for personal use\n\nBe sure to register online!! \n\nClick link to register
URL:https://miamifl.cisvusa.org/event/car-scavenger-hunt/
LOCATION:Miami City Hall (Roundabout Entrance)\, 3500 Pan American Drive\, Coconut Grove\, 33133
ATTACH;FMTTYPE=image/jpeg:https://miamifl.cisvusa.org/wp-content/uploads/sites/10/2020/09/ROADR-.jpg
GEO:25.7276845;-80.2337652
X-APPLE-STRUCTURED-LOCATION;VALUE=URI;X-ADDRESS=Miami City Hall (Roundabout Entrance) 3500 Pan American Drive Coconut Grove 33133;X-APPLE-RADIUS=500;X-TITLE=3500 Pan American Drive:geo:-80.2337652,25.7276845
END:VEVENT
END:VCALENDAR