BEGIN:VCALENDAR
VERSION:2.0
PRODID:-//Miami - ECPv6.15.20//NONSGML v1.0//EN
CALSCALE:GREGORIAN
METHOD:PUBLISH
X-WR-CALNAME:Miami
X-ORIGINAL-URL:https://miamifl.cisvusa.org
X-WR-CALDESC:Events for Miami
REFRESH-INTERVAL;VALUE=DURATION:PT1H
X-Robots-Tag:noindex
X-PUBLISHED-TTL:PT1H
BEGIN:VTIMEZONE
TZID:America/New_York
BEGIN:DAYLIGHT
TZOFFSETFROM:-0500
TZOFFSETTO:-0400
TZNAME:EDT
DTSTART:20190310T070000
END:DAYLIGHT
BEGIN:STANDARD
TZOFFSETFROM:-0400
TZOFFSETTO:-0500
TZNAME:EST
DTSTART:20191103T060000
END:STANDARD
BEGIN:DAYLIGHT
TZOFFSETFROM:-0500
TZOFFSETTO:-0400
TZNAME:EDT
DTSTART:20200308T070000
END:DAYLIGHT
BEGIN:STANDARD
TZOFFSETFROM:-0400
TZOFFSETTO:-0500
TZNAME:EST
DTSTART:20201101T060000
END:STANDARD
BEGIN:DAYLIGHT
TZOFFSETFROM:-0500
TZOFFSETTO:-0400
TZNAME:EDT
DTSTART:20210314T070000
END:DAYLIGHT
BEGIN:STANDARD
TZOFFSETFROM:-0400
TZOFFSETTO:-0500
TZNAME:EST
DTSTART:20211107T060000
END:STANDARD
END:VTIMEZONE
BEGIN:VEVENT
DTSTART;TZID=America/New_York:20200307T103000
DTEND;TZID=America/New_York:20200307T123000
DTSTAMP:20260422T194822
CREATED:20190908T222939Z
LAST-MODIFIED:20200301T204355Z
UID:10000028-1583577000-1583584200@miamifl.cisvusa.org
SUMMARY:Summer 2020 Delegation Announcements
DESCRIPTION:Where will they go??? \n  \nWe will announce all the delegations and leaders for our Village\, Interchange\, StepUp\, JC\, Youth Meeting\, Fortnight and Seminar camps that will take place this Summer 2020! \n 
URL:https://miamifl.cisvusa.org/event/summer-2020-delegation-announcements/
LOCATION:Key Biscayne Community Center\, 10 Village Green Way\, Key Biscayne\, FL\, 33149
ATTACH;FMTTYPE=image/jpeg:https://miamifl.cisvusa.org/wp-content/uploads/sites/10/2020/02/WhatsApp-Image-2020-02-22-at-9.10.57-PM-1.jpeg
GEO:25.691728;-80.1647493
X-APPLE-STRUCTURED-LOCATION;VALUE=URI;X-ADDRESS=Key Biscayne Community Center 10 Village Green Way Key Biscayne FL 33149;X-APPLE-RADIUS=500;X-TITLE=10 Village Green Way:geo:-80.1647493,25.691728
END:VEVENT
END:VCALENDAR