BEGIN:VCALENDAR
VERSION:2.0
PRODID:-//Miami - ECPv6.15.20//NONSGML v1.0//EN
CALSCALE:GREGORIAN
METHOD:PUBLISH
X-WR-CALNAME:Miami
X-ORIGINAL-URL:https://miamifl.cisvusa.org
X-WR-CALDESC:Events for Miami
REFRESH-INTERVAL;VALUE=DURATION:PT1H
X-Robots-Tag:noindex
X-PUBLISHED-TTL:PT1H
BEGIN:VTIMEZONE
TZID:America/New_York
BEGIN:DAYLIGHT
TZOFFSETFROM:-0500
TZOFFSETTO:-0400
TZNAME:EDT
DTSTART:20170312T070000
END:DAYLIGHT
BEGIN:STANDARD
TZOFFSETFROM:-0400
TZOFFSETTO:-0500
TZNAME:EST
DTSTART:20171105T060000
END:STANDARD
BEGIN:DAYLIGHT
TZOFFSETFROM:-0500
TZOFFSETTO:-0400
TZNAME:EDT
DTSTART:20180311T070000
END:DAYLIGHT
BEGIN:STANDARD
TZOFFSETFROM:-0400
TZOFFSETTO:-0500
TZNAME:EST
DTSTART:20181104T060000
END:STANDARD
BEGIN:DAYLIGHT
TZOFFSETFROM:-0500
TZOFFSETTO:-0400
TZNAME:EDT
DTSTART:20190310T070000
END:DAYLIGHT
BEGIN:STANDARD
TZOFFSETFROM:-0400
TZOFFSETTO:-0500
TZNAME:EST
DTSTART:20191103T060000
END:STANDARD
END:VTIMEZONE
BEGIN:VEVENT
DTSTART;TZID=America/New_York:20181201T200000
DTEND;TZID=America/New_York:20181202T000000
DTSTAMP:20260424T214058
CREATED:20181120T035120Z
LAST-MODIFIED:20181120T042846Z
UID:10000009-1543694400-1543708800@miamifl.cisvusa.org
SUMMARY:END OF THE YEAR PARTY
DESCRIPTION:Get ready to boogie! \nAdults only invited \nAdvance Tickets available for purchase via PayPal links below: \nLink for payment for 1 person ($70)  \nLink for Payment for 2 people ($140) \nAny questions? Please Contact jugcastroneves@gmail.com
URL:https://miamifl.cisvusa.org/event/end-of-the-year-party/
LOCATION:Key Colony\, 251 Crandon Blvd. (Ocean Sound)\, Key Biscayne\, FL\, 33149\, United States
ATTACH;FMTTYPE=image/jpeg:https://miamifl.cisvusa.org/wp-content/uploads/sites/10/2018/11/horizontal-final-invite.jpg
GEO:25.6975854;-80.1577621
X-APPLE-STRUCTURED-LOCATION;VALUE=URI;X-ADDRESS=Key Colony 251 Crandon Blvd. (Ocean Sound) Key Biscayne FL 33149 United States;X-APPLE-RADIUS=500;X-TITLE=251 Crandon Blvd. (Ocean Sound):geo:-80.1577621,25.6975854
END:VEVENT
END:VCALENDAR