BEGIN:VCALENDAR
VERSION:2.0
PRODID:-//Miami - ECPv6.15.20//NONSGML v1.0//EN
CALSCALE:GREGORIAN
METHOD:PUBLISH
X-WR-CALNAME:Miami
X-ORIGINAL-URL:https://miamifl.cisvusa.org
X-WR-CALDESC:Events for Miami
REFRESH-INTERVAL;VALUE=DURATION:PT1H
X-Robots-Tag:noindex
X-PUBLISHED-TTL:PT1H
BEGIN:VTIMEZONE
TZID:America/New_York
BEGIN:DAYLIGHT
TZOFFSETFROM:-0500
TZOFFSETTO:-0400
TZNAME:EDT
DTSTART:20210314T070000
END:DAYLIGHT
BEGIN:STANDARD
TZOFFSETFROM:-0400
TZOFFSETTO:-0500
TZNAME:EST
DTSTART:20211107T060000
END:STANDARD
BEGIN:DAYLIGHT
TZOFFSETFROM:-0500
TZOFFSETTO:-0400
TZNAME:EDT
DTSTART:20220313T070000
END:DAYLIGHT
BEGIN:STANDARD
TZOFFSETFROM:-0400
TZOFFSETTO:-0500
TZNAME:EST
DTSTART:20221106T060000
END:STANDARD
BEGIN:DAYLIGHT
TZOFFSETFROM:-0500
TZOFFSETTO:-0400
TZNAME:EDT
DTSTART:20230312T070000
END:DAYLIGHT
BEGIN:STANDARD
TZOFFSETFROM:-0400
TZOFFSETTO:-0500
TZNAME:EST
DTSTART:20231105T060000
END:STANDARD
BEGIN:DAYLIGHT
TZOFFSETFROM:-0500
TZOFFSETTO:-0400
TZNAME:EDT
DTSTART:20240310T070000
END:DAYLIGHT
BEGIN:STANDARD
TZOFFSETFROM:-0400
TZOFFSETTO:-0500
TZNAME:EST
DTSTART:20241103T060000
END:STANDARD
BEGIN:DAYLIGHT
TZOFFSETFROM:-0500
TZOFFSETTO:-0400
TZNAME:EDT
DTSTART:20250309T070000
END:DAYLIGHT
BEGIN:STANDARD
TZOFFSETFROM:-0400
TZOFFSETTO:-0500
TZNAME:EST
DTSTART:20251102T060000
END:STANDARD
BEGIN:DAYLIGHT
TZOFFSETFROM:-0500
TZOFFSETTO:-0400
TZNAME:EDT
DTSTART:20260308T070000
END:DAYLIGHT
BEGIN:STANDARD
TZOFFSETFROM:-0400
TZOFFSETTO:-0500
TZNAME:EST
DTSTART:20261101T060000
END:STANDARD
END:VTIMEZONE
BEGIN:VEVENT
DTSTART;VALUE=DATE:20221105
DTEND;VALUE=DATE:20221106
DTSTAMP:20260422T191219
CREATED:20221006T003506Z
LAST-MODIFIED:20221024T173201Z
UID:10000043-1667606400-1667692799@miamifl.cisvusa.org
SUMMARY:Save the Date : Day Camp
DESCRIPTION:
URL:https://miamifl.cisvusa.org/event/save-the-date-day-camp/
LOCATION:FL
END:VEVENT
BEGIN:VEVENT
DTSTART;VALUE=DATE:20221204
DTEND;VALUE=DATE:20221205
DTSTAMP:20260422T191219
CREATED:20221006T003544Z
LAST-MODIFIED:20221024T173302Z
UID:10000044-1670112000-1670198399@miamifl.cisvusa.org
SUMMARY:Save the Date : Holiday Party
DESCRIPTION:
URL:https://miamifl.cisvusa.org/event/save-the-date-holiday-party/
LOCATION:FL
END:VEVENT
BEGIN:VEVENT
DTSTART;TZID=America/New_York:20230909T100000
DTEND;TZID=America/New_York:20230909T130000
DTSTAMP:20260422T191219
CREATED:20230721T194807Z
LAST-MODIFIED:20230721T195011Z
UID:10000045-1694253600-1694264400@miamifl.cisvusa.org
SUMMARY:Welcome Back! Summer Programs
DESCRIPTION:
URL:https://miamifl.cisvusa.org/event/welcome-back-summer-programs/
LOCATION:Key Biscayne\, FL
END:VEVENT
BEGIN:VEVENT
DTSTART;TZID=America/New_York:20231008T103000
DTEND;TZID=America/New_York:20231008T123000
DTSTAMP:20260422T191219
CREATED:20230721T195246Z
LAST-MODIFIED:20230721T195246Z
UID:10000046-1696761000-1696768200@miamifl.cisvusa.org
SUMMARY:Save the Date: Open House
DESCRIPTION:
URL:https://miamifl.cisvusa.org/event/save-the-date-open-house/
LOCATION:FL
END:VEVENT
BEGIN:VEVENT
DTSTART;TZID=America/New_York:20231020T170000
DTEND;TZID=America/New_York:20231022T120000
DTSTAMP:20260422T191219
CREATED:20230721T200030Z
LAST-MODIFIED:20230725T021704Z
UID:10000047-1697821200-1697976000@miamifl.cisvusa.org
SUMMARY:Save the Date: Mini Camp
DESCRIPTION:
URL:https://miamifl.cisvusa.org/event/save-the-date-mini-camp/
LOCATION:FL
END:VEVENT
BEGIN:VEVENT
DTSTART;VALUE=DATE:20231105
DTEND;VALUE=DATE:20231106
DTSTAMP:20260422T191219
CREATED:20230721T200508Z
LAST-MODIFIED:20230721T200508Z
UID:10000049-1699142400-1699228799@miamifl.cisvusa.org
SUMMARY:Save the Date: Day Camp
DESCRIPTION:
URL:https://miamifl.cisvusa.org/event/save-the-date-day-camp-3/
LOCATION:Miami\, FL
END:VEVENT
BEGIN:VEVENT
DTSTART;VALUE=DATE:20231203
DTEND;VALUE=DATE:20231204
DTSTAMP:20260422T191219
CREATED:20230721T200206Z
LAST-MODIFIED:20230721T200251Z
UID:10000048-1701561600-1701647999@miamifl.cisvusa.org
SUMMARY:Save the Date: Holiday Party
DESCRIPTION:
URL:https://miamifl.cisvusa.org/event/save-the-date-day-camp-2/
LOCATION:Miami\, FL
END:VEVENT
BEGIN:VEVENT
DTSTART;TZID=America/New_York:20241109T090000
DTEND;TZID=America/New_York:20241109T130000
DTSTAMP:20260422T191219
CREATED:20241105T163718Z
LAST-MODIFIED:20241105T171647Z
UID:10000052-1731142800-1731157200@miamifl.cisvusa.org
SUMMARY:Mosaic Thanksgiving Activity
DESCRIPTION:
URL:https://miamifl.cisvusa.org/event/save-the-date-mosaic-thanksgiving-activity/
LOCATION:Miami\, FL
END:VEVENT
BEGIN:VEVENT
DTSTART;TZID=America/New_York:20241117T090000
DTEND;TZID=America/New_York:20241117T170000
DTSTAMP:20260422T191219
CREATED:20241105T163601Z
LAST-MODIFIED:20241105T171746Z
UID:10000051-1731834000-1731862800@miamifl.cisvusa.org
SUMMARY:Day Camp
DESCRIPTION:
URL:https://miamifl.cisvusa.org/event/save-the-date-day-camp-4/
LOCATION:FL
END:VEVENT
BEGIN:VEVENT
DTSTART;VALUE=DATE:20241208
DTEND;VALUE=DATE:20241209
DTSTAMP:20260422T191219
CREATED:20241105T163456Z
LAST-MODIFIED:20241105T171123Z
UID:10000050-1733616000-1733702399@miamifl.cisvusa.org
SUMMARY:Holiday Party
DESCRIPTION:
URL:https://miamifl.cisvusa.org/event/save-the-date-holiday-party-2/
LOCATION:Miami\, FL
END:VEVENT
BEGIN:VEVENT
DTSTART;TZID=America/New_York:20251003T150000
DTEND;TZID=America/New_York:20251005T140000
DTSTAMP:20260422T191219
CREATED:20250728T132419Z
LAST-MODIFIED:20250801T151150Z
UID:10000054-1759503600-1759672800@miamifl.cisvusa.org
SUMMARY:2025 Miami SRMC  Registration is Now Open until August 21st
DESCRIPTION:Come join the 2025 Miami SRMC!\nWe are excited to announce that CISV Miami will host the Southern Regional Minicamp (SRMC) this year! It’s a great opportunity for CISV youth members from the Southeast region to participate in fun and educational activities\, and to build friendships within the CISV community. \nThe campsite is in Homestead\, Florida. Exact location will be disclosed upon registration. \nWho’s coming to the 2025 Miami SRMC? \nYouth members (10-17 years old) and adult staff/chaperones (21+ years old) from Miami\, Jacksonville\, Atlanta\, Chattanooga and the Smoky Mountains Chapters \nWhat is a Minicamp? \nA minicamp is a 2–3-day event hosted by a local CISV Chapter that gives kids a taste of what it would be like to spend time at a national or international CISV program and experience what CISV is all about. Minicamp is a weekend jam-packed with fun and educational activities that aim to build mutual understanding\, empathy\, friendship and peace. The minicamp kicks off with fun icebreakers to help everyone feel welcomed. Activities are followed by a group debrief\, where participants will reflect on the attitudes\, skills and knowledge they gained\, bringing CISV values to life in a meaningful way. \nFees & Payment Options \nThe cost is $265 per participant and payment can be done by Paypal or Zelle. Minicamp fees are non-refundable. \nZelle: send payment to treasurermiami-florida@cisvusa.org \n*please add a comment: Youth Name/Chapter – 2025 SRMC \nPaypal (cost includes a 3% processing fee): www.Paypal.me/CisvMiami/273 \n*please add a comment: Youth Name/Chapter – 2025 SRMC \nRegistration Forms & Deadline \nRegistration is now open and closes on August 21\, 2025\, at 11:59pm. \nRegistration is only complete once we receive the required form and the payment of the minicamp fee. Pending forms or payment after the deadline may result in registration cancellation. \nYouth members (10-17 years old)\, please register below: \nYouth Member Registration Form_2025 Miami SRMC \nAdult staff/chaperones (21+ years old)\, please complete the form below: \nAdult Chaperone Legal Form_2025 Miami SRMC \nReview the 2025 Miami SRMC FAQ for more information. \nWe look forward to seeing you at the Minicamp! \n  \n 
URL:https://miamifl.cisvusa.org/event/2025-miami-srmc-registration-link/
LOCATION:FL
ATTACH;FMTTYPE=image/jpeg:https://miamifl.cisvusa.org/wp-content/uploads/sites/10/2025/07/groupimage.jpg
END:VEVENT
END:VCALENDAR