BEGIN:VCALENDAR
VERSION:2.0
PRODID:-//Miami - ECPv6.15.20//NONSGML v1.0//EN
CALSCALE:GREGORIAN
METHOD:PUBLISH
X-WR-CALNAME:Miami
X-ORIGINAL-URL:https://miamifl.cisvusa.org
X-WR-CALDESC:Events for Miami
REFRESH-INTERVAL;VALUE=DURATION:PT1H
X-Robots-Tag:noindex
X-PUBLISHED-TTL:PT1H
BEGIN:VTIMEZONE
TZID:America/New_York
BEGIN:DAYLIGHT
TZOFFSETFROM:-0500
TZOFFSETTO:-0400
TZNAME:EDT
DTSTART:20190310T070000
END:DAYLIGHT
BEGIN:STANDARD
TZOFFSETFROM:-0400
TZOFFSETTO:-0500
TZNAME:EST
DTSTART:20191103T060000
END:STANDARD
BEGIN:DAYLIGHT
TZOFFSETFROM:-0500
TZOFFSETTO:-0400
TZNAME:EDT
DTSTART:20200308T070000
END:DAYLIGHT
BEGIN:STANDARD
TZOFFSETFROM:-0400
TZOFFSETTO:-0500
TZNAME:EST
DTSTART:20201101T060000
END:STANDARD
BEGIN:DAYLIGHT
TZOFFSETFROM:-0500
TZOFFSETTO:-0400
TZNAME:EDT
DTSTART:20210314T070000
END:DAYLIGHT
BEGIN:STANDARD
TZOFFSETFROM:-0400
TZOFFSETTO:-0500
TZNAME:EST
DTSTART:20211107T060000
END:STANDARD
END:VTIMEZONE
BEGIN:VEVENT
DTSTART;TZID=America/New_York:20200208T103000
DTEND;TZID=America/New_York:20200208T150000
DTSTAMP:20260420T221749
CREATED:20190830T220916Z
LAST-MODIFIED:20200121T024518Z
UID:895-1581157800-1581174000@miamifl.cisvusa.org
SUMMARY:Parent's Fun Day + JB Activity
DESCRIPTION:We look forward to seeing the whole family for an afternoon full of activities for kids and parents alike! \nPlease bring water bottles and a lunch to share!
URL:https://miamifl.cisvusa.org/event/jb-activity-feb8/
LOCATION:Crandon Park\, 4000 Crandon Blvd\, Key Biscayne\, Florida\, 33149
ATTACH;FMTTYPE=image/jpeg:https://miamifl.cisvusa.org/wp-content/uploads/sites/10/2019/12/IMG_6371-scaled.jpg
GEO:25.7266925;-80.1561357
X-APPLE-STRUCTURED-LOCATION;VALUE=URI;X-ADDRESS=Crandon Park 4000 Crandon Blvd Key Biscayne Florida 33149;X-APPLE-RADIUS=500;X-TITLE=4000 Crandon Blvd:geo:-80.1561357,25.7266925
END:VEVENT
END:VCALENDAR